BEGIN:VCALENDAR
VERSION:2.0
PRODID:-//The Station Master&#039;s House - ECPv6.15.15//NONSGML v1.0//EN
CALSCALE:GREGORIAN
METHOD:PUBLISH
X-WR-CALNAME:The Station Master&#039;s House
X-ORIGINAL-URL:https://thestationmastershouse.co.uk
X-WR-CALDESC:Events for The Station Master&#039;s House
REFRESH-INTERVAL;VALUE=DURATION:PT1H
X-Robots-Tag:noindex
X-PUBLISHED-TTL:PT1H
BEGIN:VTIMEZONE
TZID:Europe/London
BEGIN:DAYLIGHT
TZOFFSETFROM:+0000
TZOFFSETTO:+0100
TZNAME:BST
DTSTART:20250330T010000
END:DAYLIGHT
BEGIN:STANDARD
TZOFFSETFROM:+0100
TZOFFSETTO:+0000
TZNAME:GMT
DTSTART:20251026T010000
END:STANDARD
BEGIN:DAYLIGHT
TZOFFSETFROM:+0000
TZOFFSETTO:+0100
TZNAME:BST
DTSTART:20260329T010000
END:DAYLIGHT
BEGIN:STANDARD
TZOFFSETFROM:+0100
TZOFFSETTO:+0000
TZNAME:GMT
DTSTART:20261025T010000
END:STANDARD
BEGIN:DAYLIGHT
TZOFFSETFROM:+0000
TZOFFSETTO:+0100
TZNAME:BST
DTSTART:20270328T010000
END:DAYLIGHT
BEGIN:STANDARD
TZOFFSETFROM:+0100
TZOFFSETTO:+0000
TZNAME:GMT
DTSTART:20271031T010000
END:STANDARD
END:VTIMEZONE
BEGIN:VEVENT
DTSTART;TZID=Europe/London:20260421T150000
DTEND;TZID=Europe/London:20260421T170000
DTSTAMP:20260423T093231
CREATED:20250301T113356Z
LAST-MODIFIED:20251216T105150Z
UID:10004473-1776783600-1776790800@thestationmastershouse.co.uk
SUMMARY:Knit and Natter at The Station Master's House
DESCRIPTION:Are you looking for a fun and relaxing way to spend your time? Why not join our knit and natter group? Our event is open to everyone\, including beginners who are just starting out. You don’t need to have any experience with knitting or crocheting to join us. Our friendly and experienced group of knitters will be happy to teach you the basics and help you get started! \nNot only is knitting a great way to relax and unwind\, but it’s also a great way to meet new people and make new friends. Our knitting and natter event is the perfect opportunity to do just that. So why not come along and join us? We can’t wait to see you there!
URL:https://thestationmastershouse.co.uk/event/knit-and-natter-at-birkdale-community-hub-library-2-2/2026-04-21/
LOCATION:The Station Master’s House – Large Meeting Room\, The Station Master's House\, 2\, Liverpool Road\, Southport\, PR8 4AR\, United Kingdom
ATTACH;FMTTYPE=image/png:https://thestationmastershouse.co.uk/wp-content/uploads/2023/01/Knit-and-Natter.png
ORGANIZER;CN="BCHL":MAILTO:contact@thestationmastershouse.co.uk
END:VEVENT
BEGIN:VEVENT
DTSTART;TZID=Europe/London:20260421T180000
DTEND;TZID=Europe/London:20260421T190000
DTSTAMP:20260423T093231
CREATED:20231016T212734Z
LAST-MODIFIED:20231016T212821Z
UID:10002155-1776794400-1776798000@thestationmastershouse.co.uk
SUMMARY:LibDem councillor drop in surgeries
DESCRIPTION:LibDem councillors hold their drop-in surgeries at the library\, these will be held on the 3rd Tuesday of every month\, from 6:00pm – 7:00pm. \nNo appointment is necessary\, just call in.
URL:https://thestationmastershouse.co.uk/event/local-councillor-drop-in-surgeries-2/2026-04-21/
LOCATION:The Station Master’s House\, The Station Master's House\, 2\, Liverpool Road\, Southport\, Merseyside\, PR8 4AR\, United Kingdom
GEO:53.634129459007;-3.0140672699917
X-APPLE-STRUCTURED-LOCATION;VALUE=URI;X-ADDRESS=The Station Master’s House The Station Master's House 2 Liverpool Road Southport Merseyside PR8 4AR United Kingdom;X-APPLE-RADIUS=500;X-TITLE=The Station Master's House\, 2\, Liverpool Road:geo:-3.0140672699917,53.634129459007
END:VEVENT
END:VCALENDAR